BEGIN:VCALENDAR
VERSION:2.0
PRODID:-//Plone.org//NONSGML plone.app.event//EN
X-WR-TIMEZONE:America/Denver
BEGIN:VEVENT
SUMMARY:AEC Meeting Schedule
DTSTART;TZID=America/Denver:20260520T090000
DTEND;TZID=America/Denver:20260520T110000
DTSTAMP:20260420T194430Z
UID:91f5045ce4b44c70911766ffd7d1e618@127.0.0.1:6081
RRULE:FREQ=MONTHLY;COUNT=11;BYDAY=+3WE
CREATED:20260420T195530Z
DESCRIPTION:AEC Meetings
LAST-MODIFIED:20260420T195601Z
URL:https://www.cabq.gov/generalservices/energy-sustainability-management/
 albuquerque-energy-committee/aec-meeting-1
END:VEVENT
BEGIN:VTIMEZONE
TZID:America/Denver
X-LIC-LOCATION:America/Denver
BEGIN:DAYLIGHT
DTSTART:20260308T030000
TZNAME:MDT
TZOFFSETFROM:-0700
TZOFFSETTO:-0600
END:DAYLIGHT
END:VTIMEZONE
END:VCALENDAR
