BEGIN:VCALENDAR
VERSION:2.0
PRODID:-//Plone.org//NONSGML plone.app.event//EN
X-WR-TIMEZONE:America/Denver
BEGIN:VEVENT
SUMMARY:Chair Yoga
DTSTART;TZID=America/Denver:20260422T103000
DTEND;TZID=America/Denver:20260422T113000
DTSTAMP:20260420T132933Z
UID:20e91dc014c540e5886b711ac1e1b358@127.0.0.1:6081
RRULE:FREQ=WEEKLY;BYDAY=WE
EXDATE;TZID=America/Denver:20241225T000000,20250101T000000,20250108T000000
 ,20250115T000000,20250122T000000,20250129T000000
CREATED:20240918T214926Z
DESCRIPTION:Free class
LAST-MODIFIED:20260105T215336Z
URL:https://www.cabq.gov/family/events/chair-yoga
END:VEVENT
BEGIN:VTIMEZONE
TZID:America/Denver
X-LIC-LOCATION:America/Denver
BEGIN:DAYLIGHT
DTSTART:20260308T030000
TZNAME:MDT
TZOFFSETFROM:-0700
TZOFFSETTO:-0600
END:DAYLIGHT
END:VTIMEZONE
END:VCALENDAR
