BEGIN:VCALENDAR
VERSION:2.0
PRODID:-//Plone.org//NONSGML plone.app.event//EN
X-WR-TIMEZONE:America/Denver
BEGIN:VEVENT
SUMMARY:Night Walk at the Botanic Garden
DTSTART;TZID=America/Denver:20260519T183000
DTEND;TZID=America/Denver:20260519T200000
DTSTAMP:20260420T130643Z
UID:273da9bc0472b65b255eaf757cfa325c@127.0.0.1:6081
RRULE:FREQ=YEARLY;COUNT=1;BYMONTHDAY=19;BYMONTH=5
CATEGORIES:Things to Do: Conservation,Things To Do: Tours,Featured,Things 
 To Do: Kids and Families,Things to Do: Annual Events,Things To Do: Science
  and Nature,BioPark event
CREATED:20110310T180102Z
DESCRIPTION:See night-blooming plants\, nocturnal animals\, and night poll
 inators on this guided tour at the Botanic Garden.
LAST-MODIFIED:20260417T223112Z
URL:https://www.cabq.gov/artsculture/biopark/events/night-walk-at-the-bota
 nic-garden
END:VEVENT
BEGIN:VTIMEZONE
TZID:America/Denver
X-LIC-LOCATION:America/Denver
BEGIN:DAYLIGHT
DTSTART:20260308T030000
TZNAME:MDT
TZOFFSETFROM:-0700
TZOFFSETTO:-0600
END:DAYLIGHT
END:VTIMEZONE
END:VCALENDAR
